BEGIN:VCALENDAR
VERSION:2.0
PRODID:-//US REO Partners - ECPv6.15.20//NONSGML v1.0//EN
CALSCALE:GREGORIAN
METHOD:PUBLISH
X-ORIGINAL-URL:https://usreop.com
X-WR-CALDESC:Events for US REO Partners
REFRESH-INTERVAL;VALUE=DURATION:PT1H
X-Robots-Tag:noindex
X-PUBLISHED-TTL:PT1H
BEGIN:VTIMEZONE
TZID:America/Chicago
BEGIN:DAYLIGHT
TZOFFSETFROM:-0600
TZOFFSETTO:-0500
TZNAME:CDT
DTSTART:20130310T080000
END:DAYLIGHT
BEGIN:STANDARD
TZOFFSETFROM:-0500
TZOFFSETTO:-0600
TZNAME:CST
DTSTART:20131103T070000
END:STANDARD
BEGIN:DAYLIGHT
TZOFFSETFROM:-0600
TZOFFSETTO:-0500
TZNAME:CDT
DTSTART:20140309T080000
END:DAYLIGHT
BEGIN:STANDARD
TZOFFSETFROM:-0500
TZOFFSETTO:-0600
TZNAME:CST
DTSTART:20141102T070000
END:STANDARD
BEGIN:DAYLIGHT
TZOFFSETFROM:-0600
TZOFFSETTO:-0500
TZNAME:CDT
DTSTART:20150308T080000
END:DAYLIGHT
BEGIN:STANDARD
TZOFFSETFROM:-0500
TZOFFSETTO:-0600
TZNAME:CST
DTSTART:20151101T070000
END:STANDARD
BEGIN:DAYLIGHT
TZOFFSETFROM:-0600
TZOFFSETTO:-0500
TZNAME:CDT
DTSTART:20160313T080000
END:DAYLIGHT
BEGIN:STANDARD
TZOFFSETFROM:-0500
TZOFFSETTO:-0600
TZNAME:CST
DTSTART:20161106T070000
END:STANDARD
BEGIN:DAYLIGHT
TZOFFSETFROM:-0600
TZOFFSETTO:-0500
TZNAME:CDT
DTSTART:20170312T080000
END:DAYLIGHT
BEGIN:STANDARD
TZOFFSETFROM:-0500
TZOFFSETTO:-0600
TZNAME:CST
DTSTART:20171105T070000
END:STANDARD
BEGIN:DAYLIGHT
TZOFFSETFROM:-0600
TZOFFSETTO:-0500
TZNAME:CDT
DTSTART:20180311T080000
END:DAYLIGHT
BEGIN:STANDARD
TZOFFSETFROM:-0500
TZOFFSETTO:-0600
TZNAME:CST
DTSTART:20181104T070000
END:STANDARD
BEGIN:DAYLIGHT
TZOFFSETFROM:-0600
TZOFFSETTO:-0500
TZNAME:CDT
DTSTART:20190310T080000
END:DAYLIGHT
BEGIN:STANDARD
TZOFFSETFROM:-0500
TZOFFSETTO:-0600
TZNAME:CST
DTSTART:20191103T070000
END:STANDARD
BEGIN:DAYLIGHT
TZOFFSETFROM:-0600
TZOFFSETTO:-0500
TZNAME:CDT
DTSTART:20200308T080000
END:DAYLIGHT
BEGIN:STANDARD
TZOFFSETFROM:-0500
TZOFFSETTO:-0600
TZNAME:CST
DTSTART:20201101T070000
END:STANDARD
BEGIN:DAYLIGHT
TZOFFSETFROM:-0600
TZOFFSETTO:-0500
TZNAME:CDT
DTSTART:20210314T080000
END:DAYLIGHT
BEGIN:STANDARD
TZOFFSETFROM:-0500
TZOFFSETTO:-0600
TZNAME:CST
DTSTART:20211107T070000
END:STANDARD
BEGIN:DAYLIGHT
TZOFFSETFROM:-0600
TZOFFSETTO:-0500
TZNAME:CDT
DTSTART:20220313T080000
END:DAYLIGHT
BEGIN:STANDARD
TZOFFSETFROM:-0500
TZOFFSETTO:-0600
TZNAME:CST
DTSTART:20221106T070000
END:STANDARD
BEGIN:DAYLIGHT
TZOFFSETFROM:-0600
TZOFFSETTO:-0500
TZNAME:CDT
DTSTART:20230312T080000
END:DAYLIGHT
BEGIN:STANDARD
TZOFFSETFROM:-0500
TZOFFSETTO:-0600
TZNAME:CST
DTSTART:20231105T070000
END:STANDARD
BEGIN:DAYLIGHT
TZOFFSETFROM:-0600
TZOFFSETTO:-0500
TZNAME:CDT
DTSTART:20240310T080000
END:DAYLIGHT
BEGIN:STANDARD
TZOFFSETFROM:-0500
TZOFFSETTO:-0600
TZNAME:CST
DTSTART:20241103T070000
END:STANDARD
BEGIN:DAYLIGHT
TZOFFSETFROM:-0600
TZOFFSETTO:-0500
TZNAME:CDT
DTSTART:20250309T080000
END:DAYLIGHT
BEGIN:STANDARD
TZOFFSETFROM:-0500
TZOFFSETTO:-0600
TZNAME:CST
DTSTART:20251102T070000
END:STANDARD
BEGIN:DAYLIGHT
TZOFFSETFROM:-0600
TZOFFSETTO:-0500
TZNAME:CDT
DTSTART:20260308T080000
END:DAYLIGHT
BEGIN:STANDARD
TZOFFSETFROM:-0500
TZOFFSETTO:-0600
TZNAME:CST
DTSTART:20261101T070000
END:STANDARD
END:VTIMEZONE
BEGIN:VEVENT
DTSTART;TZID=America/Chicago:20250211T100000
DTEND;TZID=America/Chicago:20250211T110000
DTSTAMP:20260419T114126
CREATED:20250103T195819Z
LAST-MODIFIED:20250103T195819Z
UID:50418-1739268000-1739271600@usreop.com
SUMMARY:USREOP Monthly Mastermind
DESCRIPTION:
URL:https://usreop.com/events/usreop-monthly-mastermind-4/
CATEGORIES:USREOP Mastermind Meeting
END:VEVENT
BEGIN:VEVENT
DTSTART;TZID=America/Chicago:20141204T170000
DTEND;TZID=America/Chicago:20141204T190000
DTSTAMP:20260419T114126
CREATED:20141015T153557Z
LAST-MODIFIED:20141105T155159Z
UID:3479-1417712400-1417719600@usreop.com
SUMMARY:REOMAC Dinner - Los Angeles\, CA
DESCRIPTION:US REO Partners Sponsoring Los Angeles REOMAC Dinner\nFREE to all US REO Partners members \nPlease do not make a reservation through REOMAC. US REO Partners has a discounted price for members and is no cost to you. Should you reserve through REOMAC without going through US REO Partners\, there are no refunds. To Make a Reservation with US REO Partners\, email info@usreop.com or contact Mary Best Brill or Cheryl Lee.
URL:https://usreop.com/events/reomac-dinner-los-angeles-ca/
LOCATION:Sheraton Gateway\, Los Angeles\, 6101 West Century Boulevard\, Los Angeles\, CA\, 90045\, United States
CATEGORIES:USREOP Mastermind Meeting
ATTACH;FMTTYPE=image/jpeg:https://usreop.com/wp-content/uploads/2014/08/Dinner-with-REOMAC.jpg
END:VEVENT
BEGIN:VEVENT
DTSTART;TZID=America/Chicago:20141204T150000
DTEND;TZID=America/Chicago:20141204T170000
DTSTAMP:20260419T114126
CREATED:20141015T161836Z
LAST-MODIFIED:20141105T154941Z
UID:3487-1417705200-1417712400@usreop.com
SUMMARY:Membership Meeting - Los Angeles\, CA
DESCRIPTION:  \n  \n  \n  \nLos Angeles\, CA US REO Partners Membership Meeting\nFor US REO Members only. Make your reservation today by emailing info@usreop.com. \nScott Newman\, US REO Partners Charter Member of Chicago\, IL\, will be presenting “Using Technology to Your Best Advantage” showing members how to do a One-Stop place to connect throughout the internet and save you time and money. \nPlease do not make a reservation through REOMAC. US REO Partners has a discounted price for members and is no cost to you. Should you reserve through REOMAC without going through US REO Partners\, there are no refunds. To Make a Reservation with US REO Partners\, email info@usreop.com or contact Mary Best Brill or Cheryl Lee.
URL:https://usreop.com/events/membership-mastermind-meeting-los-angeles-ca/
LOCATION:Sheraton Gateway\, Los Angeles\, 6101 West Century Boulevard\, Los Angeles\, CA\, 90045\, United States
CATEGORIES:USREOP Mastermind Meeting
ATTACH;FMTTYPE=image/jpeg:https://usreop.com/wp-content/uploads/2014/08/Dinner-with-REOMAC.jpg
ORGANIZER;CN="US REO Partners":MAILTO:info@USREOP.com
END:VEVENT
END:VCALENDAR