BEGIN:VCALENDAR
VERSION:2.0
PRODID:-//US REO Partners - ECPv6.15.20//NONSGML v1.0//EN
CALSCALE:GREGORIAN
METHOD:PUBLISH
X-WR-CALNAME:US REO Partners
X-ORIGINAL-URL:https://usreop.com
X-WR-CALDESC:Events for US REO Partners
REFRESH-INTERVAL;VALUE=DURATION:PT1H
X-Robots-Tag:noindex
X-PUBLISHED-TTL:PT1H
BEGIN:VTIMEZONE
TZID:America/Los_Angeles
BEGIN:DAYLIGHT
TZOFFSETFROM:-0800
TZOFFSETTO:-0700
TZNAME:PDT
DTSTART:20160313T100000
END:DAYLIGHT
BEGIN:STANDARD
TZOFFSETFROM:-0700
TZOFFSETTO:-0800
TZNAME:PST
DTSTART:20161106T090000
END:STANDARD
BEGIN:DAYLIGHT
TZOFFSETFROM:-0800
TZOFFSETTO:-0700
TZNAME:PDT
DTSTART:20170312T100000
END:DAYLIGHT
BEGIN:STANDARD
TZOFFSETFROM:-0700
TZOFFSETTO:-0800
TZNAME:PST
DTSTART:20171105T090000
END:STANDARD
BEGIN:DAYLIGHT
TZOFFSETFROM:-0800
TZOFFSETTO:-0700
TZNAME:PDT
DTSTART:20180311T100000
END:DAYLIGHT
BEGIN:STANDARD
TZOFFSETFROM:-0700
TZOFFSETTO:-0800
TZNAME:PST
DTSTART:20181104T090000
END:STANDARD
END:VTIMEZONE
BEGIN:VTIMEZONE
TZID:America/Chicago
BEGIN:DAYLIGHT
TZOFFSETFROM:-0600
TZOFFSETTO:-0500
TZNAME:CDT
DTSTART:20130310T080000
END:DAYLIGHT
BEGIN:STANDARD
TZOFFSETFROM:-0500
TZOFFSETTO:-0600
TZNAME:CST
DTSTART:20131103T070000
END:STANDARD
BEGIN:DAYLIGHT
TZOFFSETFROM:-0600
TZOFFSETTO:-0500
TZNAME:CDT
DTSTART:20140309T080000
END:DAYLIGHT
BEGIN:STANDARD
TZOFFSETFROM:-0500
TZOFFSETTO:-0600
TZNAME:CST
DTSTART:20141102T070000
END:STANDARD
BEGIN:DAYLIGHT
TZOFFSETFROM:-0600
TZOFFSETTO:-0500
TZNAME:CDT
DTSTART:20150308T080000
END:DAYLIGHT
BEGIN:STANDARD
TZOFFSETFROM:-0500
TZOFFSETTO:-0600
TZNAME:CST
DTSTART:20151101T070000
END:STANDARD
END:VTIMEZONE
BEGIN:VEVENT
DTSTART;TZID=America/Los_Angeles:20170119T100000
DTEND;TZID=America/Los_Angeles:20170119T110000
DTSTAMP:20260420T080503
CREATED:20170109T203452Z
LAST-MODIFIED:20170112T165413Z
UID:6927-1484820000-1484823600@usreop.com
SUMMARY:Legal Updates Webinar
DESCRIPTION:US REO Partners attorneys will be giving a one-hour legal update on California tenant law\, an update on the Florida appeals court lien ruling\, HOA\, and South Carolina eviction and vacant property issues.
URL:https://usreop.com/events/legal-updates-webinar/
CATEGORIES:SAVE THE DATE,SAVE THE DATE: Webinar
END:VEVENT
BEGIN:VEVENT
DTSTART;TZID=America/Chicago:20141028T140000
DTEND;TZID=America/Chicago:20141028T150000
DTSTAMP:20260420T080503
CREATED:20141020T192510Z
LAST-MODIFIED:20141021T192737Z
UID:3535-1414504800-1414508400@usreop.com
SUMMARY:US REO Partners Member Earl Wallace speaking: Webinar: Effective Solutions to New Challenges in Post-Foreclosure Evictions
DESCRIPTION:12-1pm PDT; 1-2pm MDT; 2-3pm CDT; 3-4pm EDT \n\n\n\n\n\n\n\n\n\n\n\n\n\n\n\nWebinar: Effective Solutions to New Challenges in Post-Foreclosure Evictions\nOctober 28 – 3pm ET\n\n\n\n\n\n\n\n\n\n\n\n\n\n\n\n\n\n\nRegister Free!\n\n\n\n\n\n\n\n\n\n\n\n\n\n\n\n\n\n\n\n\n\n\n\n\n\n\n\n\n\n\n\n\n\n\n\nSpeakers\n\n\n\n\n\n\n\n\n\n\n\n\n\n\n\n\n\n\n\n\n\n\n\n\n\n\nC. Lance Margolin\n\n\n\n\n\n\n\n\n\nManaging partner of The Margolin & Weinreb Law Group\, LLP.\nRead Lance Margolin’s bio\n\n\n\n\n\n\n\n\n\n\n\n\n\n\n\n\n\n\n\n\n\n\n\n\n\n\n\n\n\n\n\n\n\n\n\n\n\n\n\n\nEarl R. Wallace\n\n\n\n\n\n\n\n\n\nManaging partner of Ruzicka\, Wallace & Coughlin\, LLP.\nRead Earl Wallace’s bio\n\n\n\n\n\n\n\n\n\n\n\n\n\n\n\n\n\n\n\n\n\n\n\n\n\n\n\n\n\n\nEffective Solutions to New Challenges in Post-Foreclosure Evictions\n\n\n\n\n\nNow that the dust has settled around the PTFA (Protecting Tenants Against Foreclosure Act) and various similar state statutes\, REO owners are faced with a host of new post foreclosure eviction challenges. This webinar will address such issues as:• Properly identifying the various units in a building\n• Determine who is occupying the property\n• Estimating and proving “fair market rental value”\n• Spotting fraud and what to do about it\n• Creative strategies in difficult jurisdictions and tenant friendly courts\n• Challenging a “bona fide lease”You do not want to miss this informative discussion!\n\n\n\n\n\n\n\n\n\nRegister Free!\n\n\n\n\n\n\n\n\n\n\n\n 
URL:https://usreop.com/events/us-reo-partners-member-earl-wallace-speaking-webinar-effective-solutions-to-new-challenges-in-post-foreclosure-evictions/
LOCATION:REOMAC
CATEGORIES:SAVE THE DATE: Webinar
ATTACH;FMTTYPE=image/jpeg:https://usreop.com/wp-content/uploads/2014/10/US-REO-Partners-Save-the-Date.jpg
END:VEVENT
END:VCALENDAR